BEGIN:VCALENDAR
VERSION:2.0
PRODID:-//Barbora Hu - Yoga - ECPv6.15.20//NONSGML v1.0//EN
CALSCALE:GREGORIAN
METHOD:PUBLISH
X-WR-CALNAME:Barbora Hu - Yoga
X-ORIGINAL-URL:https://www.barborahu-yoga.cz
X-WR-CALDESC:Akce na Barbora Hu - Yoga
REFRESH-INTERVAL;VALUE=DURATION:PT1H
X-Robots-Tag:noindex
X-PUBLISHED-TTL:PT1H
BEGIN:VTIMEZONE
TZID:Europe/Prague
BEGIN:DAYLIGHT
TZOFFSETFROM:+0100
TZOFFSETTO:+0200
TZNAME:CEST
DTSTART:20240331T010000
END:DAYLIGHT
BEGIN:STANDARD
TZOFFSETFROM:+0200
TZOFFSETTO:+0100
TZNAME:CET
DTSTART:20241027T010000
END:STANDARD
BEGIN:DAYLIGHT
TZOFFSETFROM:+0100
TZOFFSETTO:+0200
TZNAME:CEST
DTSTART:20250330T010000
END:DAYLIGHT
BEGIN:STANDARD
TZOFFSETFROM:+0200
TZOFFSETTO:+0100
TZNAME:CET
DTSTART:20251026T010000
END:STANDARD
BEGIN:DAYLIGHT
TZOFFSETFROM:+0100
TZOFFSETTO:+0200
TZNAME:CEST
DTSTART:20260329T010000
END:DAYLIGHT
BEGIN:STANDARD
TZOFFSETFROM:+0200
TZOFFSETTO:+0100
TZNAME:CET
DTSTART:20261025T010000
END:STANDARD
BEGIN:DAYLIGHT
TZOFFSETFROM:+0100
TZOFFSETTO:+0200
TZNAME:CEST
DTSTART:20270328T010000
END:DAYLIGHT
BEGIN:STANDARD
TZOFFSETFROM:+0200
TZOFFSETTO:+0100
TZNAME:CET
DTSTART:20271031T010000
END:STANDARD
END:VTIMEZONE
BEGIN:VEVENT
DTSTART;TZID=Europe/Prague:20251101T090000
DTEND;TZID=Europe/Prague:20260620T110000
DTSTAMP:20260420T023124
CREATED:20250308T194213Z
LAST-MODIFIED:20251029T164812Z
UID:13216-1761987600-1781953200@www.barborahu-yoga.cz
SUMMARY:Seminární lekce 2025/2026
DESCRIPTION:seminární lekce čakra jógy se od podzimu vrací. \nzvu vás na dvě hodiny praxe. \nčeká nás hodina fyzické praxe (ásana\, kárána\, sančálana) \na hodina sestávající ze dvou meditací na začátku a konci + krátké úvodní rozpravy na vybrané téma\, či princip. \ncena seminární lekce v délce 120 minut je 900 kč \nseminární lekce jsou určeny široké veřejnosti (dospělým)\, začátečníkům i lektorům. \ntermíny 2025:  \n 29/11\, 20/12 (soboty 9-11) \ntermíny 2026: \n10/1\, 7/2\, 7/3\, 11/4\, 16/5\, 20/6 (soboty 9-11)\n\n rezervace v sekci rozvrh\n\npři výraznějším fyzickém\, či psychickém omezení\, mi prosím napište před přihlášením: bb@barborahu-yoga.cz \npočet míst: 10 \nučiněná rezervace zavazuje k platbě v souladu s podmínkami rezervací. \nstorno je možné 24h před lekcí\, později lze po dohodě rezervované místo převést na dalšího účastníka\, je nutné lekci uhradit \npokud Vás rezervační systém přesune z nahradnického místa do statusu přihlášeného a nemůžete dorazit\, napište mi prosím SMS co nejdříve na 725352445\, anebo svoji rezervaci v systému zrušte. \nplatba preferenčně převodem\, případně na místě hotově.
URL:https://www.barborahu-yoga.cz/akce/seminarni-lekce-podzim
CATEGORIES:workshopy
ATTACH;FMTTYPE=image/jpeg:https://www.barborahu-yoga.cz/wp-content/uploads/IMG_1006-scaled.jpg
END:VEVENT
BEGIN:VEVENT
DTSTART;TZID=Europe/Prague:20251220T130000
DTEND;TZID=Europe/Prague:20260516T163000
DTSTAMP:20260420T023124
CREATED:20250915T155422Z
LAST-MODIFIED:20251209T182943Z
UID:13499-1766235600-1778949000@www.barborahu-yoga.cz
SUMMARY:Skupinové sese Feeding Your Demons® 2026
DESCRIPTION:I v  roce 2026 se můžeme společně setkat na skupinových praxích techniky Feeding Your Demons® Lamy Tsultrim Allione. \nVíce o metodě a o tom\, co se v jejím rámci míní \,\,démonem“\, najdete zde: \n– \nSetkáme se v kruhu\, kde se po krátkém úvodu\, bude možné v bezpečném zázemí a skrze citlivé provázení\, propojit s tím\, co v sobě odmítáme\, čeho se bojíme\, co nám bere energii\, anebo nás jinak zatěžuje. V rámci této práce je možné pracovat také s konkrétní emocí\, psychosomatickou potíží\, anebo snovým zážitkem\, kterému nerozumíme a vnímáme jej jako důležitý. \nSilnou stránkou skupinových sezení\, je kolektivní léčivé pole\, síla soucitu\, sounáležitost a pocit\, že v tom nejsme sami. \nOproti individuální facilitaci\, zde není možnost osobního přizpůsobení rytmu a přístupu více na míru osobním potřebám. \nZávěr bude patřit krátkému dobrovolnému sdílení ve skupině a uzavření. \nPříležitost je ideální pro ty\, kteří s metodou mají již osobní zkušenost\, tato věc ale není podmínkou. \nSkupinové sezení FYD® není vhodné: \npokud Vaše potíže vyžadují velmi osobní přístup a dlouhodobou terapii\, kterou jste dosud nezahájili\, při schizofrenní poruše\, u OBS (obsedantně-kompulzivní porucha)\, při hraniční poruše osobnosti\, která není terapeutizovaná profesionálem\, u silných úzkostných stavů a PTSD\, kde skupinový setting může bránit pocitu důvěry \nSkupinové sezení FYD® je naopak vhodné např.: \npro osoby trpící např. poruchou příjmu potravy\,  fobiemi\, negativním sebeobrazem\, strachem z opuštění\, či selhání\, osoby trpící pocity viny\, neuměřenými nároky\, osoby procházející životními změnami\, spojenými s obavami a limitujícím očekáváním\, osoby trpící psychosomatickými potížemi \nFeeding Your Demons®skupinová sese  Kroftova prezenčně\nŽivé setkání\, jehož součástí bude jedna vedená praxe techniky Feeding Your Demons® Lamy Tsultrim Allione\, krátký úvod a dobrovolné\, závěrečné sdílení\, uzavření. \nS sebou je vhodné mít meditační polštář / polštář na sezení\, blok a tužku na eventuální poznámky. \ncena – 1200 kč \ntermíny 2026: \n7/2 (13-14:30 prezenčně) \n11/4 (13-14:30 prezenčně\, 15-16:30 rozšířená práce se spojencem prezenčně) \n16/5 (13-14:30 prezenčně) \nFeeding Your Demons® skupinová sese Online \nOnline setkání\, jehož součástí bude jedna vedená praxe techniky Feeding Your Demons® Lamy Tsultrim Allione\, krátký úvod a dobrovolné\, závěrečné sdílení\, uzavření. \nVíce o metodě najdete zde. \nPřihlášení obdrží den předem email s linkem k živému Zoom připojení\, s informacemi ohledně přípravy vhodného settingu v domácím prostředí. \ncena – 1000 kč \n7/2 (15-16:30 online) \n16/5 (15-16:30 online) \n  \nREZERVACE – ZDE \nPLATBA  – PŘEVODEM \n  \n 
URL:https://www.barborahu-yoga.cz/akce/13499
CATEGORIES:workshopy
ATTACH;FMTTYPE=image/jpeg:https://www.barborahu-yoga.cz/wp-content/uploads/IMG_5617.jpg
END:VEVENT
END:VCALENDAR